BEGIN:VCALENDAR
VERSION:2.0
PRODID:-//Liceo Militar &quot;General San Martín&quot; - ECPv5.8.1//NONSGML v1.0//EN
CALSCALE:GREGORIAN
METHOD:PUBLISH
X-WR-CALNAME:Liceo Militar &quot;General San Martín&quot;
X-ORIGINAL-URL:https://www.liceosanmartin.edu.ar
X-WR-CALDESC:Eventos para Liceo Militar &quot;General San Martín&quot;
BEGIN:VTIMEZONE
TZID:America/Argentina/Buenos_Aires
BEGIN:STANDARD
TZOFFSETFROM:-0300
TZOFFSETTO:-0300
TZNAME:-03
DTSTART:20170101T000000
END:STANDARD
END:VTIMEZONE
BEGIN:VEVENT
DTSTART;VALUE=DATE:20171014
DTEND;VALUE=DATE:20171015
DTSTAMP:20260424T075419
CREATED:20170711T215535Z
LAST-MODIFIED:20170711T215535Z
UID:3023-1507939200-1508025599@www.liceosanmartin.edu.ar
SUMMARY:Formacion día del Liceista/ Muestra Institucional
DESCRIPTION:
URL:https://www.liceosanmartin.edu.ar/evento/formacion-dia-del-liceista-muestra-institucional-2/
END:VEVENT
END:VCALENDAR