BEGIN:VCALENDAR
VERSION:2.0
PRODID:-//Liceo Militar &quot;General San Martín&quot; - ECPv5.8.1//NONSGML v1.0//EN
CALSCALE:GREGORIAN
METHOD:PUBLISH
X-WR-CALNAME:Liceo Militar &quot;General San Martín&quot;
X-ORIGINAL-URL:https://www.liceosanmartin.edu.ar
X-WR-CALDESC:Eventos para Liceo Militar &quot;General San Martín&quot;
BEGIN:VTIMEZONE
TZID:America/Argentina/Buenos_Aires
BEGIN:STANDARD
TZOFFSETFROM:-0300
TZOFFSETTO:-0300
TZNAME:-03
DTSTART:20190101T000000
END:STANDARD
END:VTIMEZONE
BEGIN:VEVENT
DTSTART;VALUE=DATE:20190617
DTEND;VALUE=DATE:20190618
DTSTAMP:20260423T164149
CREATED:20190426T112538Z
LAST-MODIFIED:20190426T112555Z
UID:5387-1560729600-1560815999@www.liceosanmartin.edu.ar
SUMMARY:FALLECIMIENTO GRAL M GUEMES
DESCRIPTION:
URL:https://www.liceosanmartin.edu.ar/evento/fallecimiento-gral-m-guemes/
END:VEVENT
END:VCALENDAR