BEGIN:VCALENDAR
VERSION:2.0
PRODID:-//Liceo Militar &quot;General San Martín&quot; - ECPv5.8.1//NONSGML v1.0//EN
CALSCALE:GREGORIAN
METHOD:PUBLISH
X-WR-CALNAME:Liceo Militar &quot;General San Martín&quot;
X-ORIGINAL-URL:https://www.liceosanmartin.edu.ar
X-WR-CALDESC:Eventos para Liceo Militar &quot;General San Martín&quot;
BEGIN:VTIMEZONE
TZID:America/Argentina/Buenos_Aires
BEGIN:STANDARD
TZOFFSETFROM:-0300
TZOFFSETTO:-0300
TZNAME:-03
DTSTART:20170101T000000
END:STANDARD
END:VTIMEZONE
BEGIN:VEVENT
DTSTART;TZID=America/Argentina/Buenos_Aires:20170607T080000
DTEND;TZID=America/Argentina/Buenos_Aires:20170607T230000
DTSTAMP:20260425T004505
CREATED:20170504T143929Z
LAST-MODIFIED:20170504T143929Z
UID:2422-1496822400-1496876400@www.liceosanmartin.edu.ar
SUMMARY:Entrega de Boletines
DESCRIPTION:
URL:https://www.liceosanmartin.edu.ar/evento/entrega-de-boletines-2/
END:VEVENT
END:VCALENDAR