BEGIN:VCALENDAR
VERSION:2.0
PRODID:-//Liceo Militar &quot;General San Martín&quot; - ECPv5.8.1//NONSGML v1.0//EN
CALSCALE:GREGORIAN
METHOD:PUBLISH
X-WR-CALNAME:Liceo Militar &quot;General San Martín&quot;
X-ORIGINAL-URL:https://www.liceosanmartin.edu.ar
X-WR-CALDESC:Eventos para Liceo Militar &quot;General San Martín&quot;
BEGIN:VTIMEZONE
TZID:America/Argentina/Buenos_Aires
BEGIN:STANDARD
TZOFFSETFROM:-0300
TZOFFSETTO:-0300
TZNAME:-03
DTSTART:20170101T000000
END:STANDARD
END:VTIMEZONE
BEGIN:VEVENT
DTSTART;VALUE=DATE:20171227
DTEND;VALUE=DATE:20171228
DTSTAMP:20260424T025957
CREATED:20170711T215830Z
LAST-MODIFIED:20170711T215830Z
UID:3029-1514332800-1514419199@www.liceosanmartin.edu.ar
SUMMARY:Día de la Soberanía Nacional. (ACTO)
DESCRIPTION:
URL:https://www.liceosanmartin.edu.ar/evento/dia-de-la-soberania-nacional-acto/
END:VEVENT
END:VCALENDAR