BEGIN:VCALENDAR
VERSION:2.0
PRODID:-//Liceo Militar &quot;General San Martín&quot; - ECPv5.8.1//NONSGML v1.0//EN
CALSCALE:GREGORIAN
METHOD:PUBLISH
X-WR-CALNAME:Liceo Militar &quot;General San Martín&quot;
X-ORIGINAL-URL:https://www.liceosanmartin.edu.ar
X-WR-CALDESC:Eventos para Liceo Militar &quot;General San Martín&quot;
BEGIN:VTIMEZONE
TZID:America/Argentina/Buenos_Aires
BEGIN:STANDARD
TZOFFSETFROM:-0300
TZOFFSETTO:-0300
TZNAME:-03
DTSTART:20190101T000000
END:STANDARD
END:VTIMEZONE
BEGIN:VEVENT
DTSTART;VALUE=DATE:20191129
DTEND;VALUE=DATE:20191130
DTSTAMP:20260423T215306
CREATED:20190426T114204Z
LAST-MODIFIED:20190426T114204Z
UID:5418-1574985600-1575071999@www.liceosanmartin.edu.ar
SUMMARY:ACTO FIN DE AÑO / FIN DE CLASES
DESCRIPTION:
URL:https://www.liceosanmartin.edu.ar/evento/acto-fin-de-ano-fin-de-clases/
END:VEVENT
END:VCALENDAR