BEGIN:VCALENDAR
VERSION:2.0
PRODID:-//Liceo Militar &quot;General San Martín&quot; - ECPv5.8.1//NONSGML v1.0//EN
CALSCALE:GREGORIAN
METHOD:PUBLISH
X-WR-CALNAME:Liceo Militar &quot;General San Martín&quot;
X-ORIGINAL-URL:https://www.liceosanmartin.edu.ar
X-WR-CALDESC:Eventos para Liceo Militar &quot;General San Martín&quot;
BEGIN:VTIMEZONE
TZID:America/Argentina/Buenos_Aires
BEGIN:STANDARD
TZOFFSETFROM:-0300
TZOFFSETTO:-0300
TZNAME:-03
DTSTART:20170101T000000
END:STANDARD
END:VTIMEZONE
BEGIN:VEVENT
DTSTART;VALUE=DATE:20171106
DTEND;VALUE=DATE:20171111
DTSTAMP:20260424T062025
CREATED:20170711T215649Z
LAST-MODIFIED:20170711T215649Z
UID:3025-1509926400-1510358399@www.liceosanmartin.edu.ar
SUMMARY:3er semana operacional /Cursillo de Asalto Aereo
DESCRIPTION:
URL:https://www.liceosanmartin.edu.ar/evento/3er-semana-operacional-cursillo-de-asalto-aereo/
END:VEVENT
END:VCALENDAR